BEGIN:VCALENDAR
VERSION:2.0
PRODID:icalendar-ruby
CALSCALE:GREGORIAN
METHOD:PUBLISH
BEGIN:VEVENT
DTSTAMP:20260422T144300Z
UID:25-1078687@mylifecenterchurch.org
DTSTART:20261103T160000Z
DTEND:20261104T070000Z
CLASS:PUBLIC
CREATED:20260422T063622
DESCRIPTION:
LAST-MODIFIED:20260422T063622
LOCATION:
SUMMARY:On The Road To Different
URL;VALUE=URI:https://mylifecenterchurch.org/events/on-the-road-to-differen
 t/2026-11-03
ATTACH;FILENAME=IMG_6044.jpg;FMTTYPE=image/jpeg:https://dq5pwpg1q8ru0.cloud
 front.net/2024/01/23/18/49/23/09e34cca-13ab-44d6-a846-345795e60419/IMG_604
 4.jpg
END:VEVENT
END:VCALENDAR
