BEGIN:VCALENDAR
VERSION:2.0
PRODID:icalendar-ruby
CALSCALE:GREGORIAN
METHOD:PUBLISH
BEGIN:VEVENT
DTSTAMP:20260422T064152Z
UID:25-1077270@mylifecenterchurch.org
DTSTART:20260922T150000Z
DTEND:20260923T060000Z
CLASS:PUBLIC
CREATED:20260421T164429
DESCRIPTION:
LAST-MODIFIED:20260421T164429
LOCATION:
SUMMARY:On The Road To Different
URL;VALUE=URI:https://mylifecenterchurch.org/events/on-the-road-to-differen
 t/2026-09-22
ATTACH;FILENAME=IMG_6044.jpg;FMTTYPE=image/jpeg:https://dq5pwpg1q8ru0.cloud
 front.net/2024/01/23/18/49/23/09e34cca-13ab-44d6-a846-345795e60419/IMG_604
 4.jpg
END:VEVENT
END:VCALENDAR
